BEGIN:VCALENDAR
VERSION:2.0
PRODID:-//wp-events-plugin.com//7.2.3.1//EN
BEGIN:VEVENT
UID:25@horsfallhouse.co.uk
DTSTART:20260208T130000Z
DTEND:20260208T160000Z
DTSTAMP:20260207T151435Z
URL:https://horsfallhouse.co.uk/events/snowdrops-at-hyde-2026/
SUMMARY:Snowdrops at Hyde 2026
DESCRIPTION:Explore Hyde’s beautiful gardens and carpets of rare snowdrop
 s\, enjoy homemade cakes and hot drinks\, and support Horsfall House\, a n
 ot-for-profit organisation and charity caring for the elderly.
ATTACH;FMTTYPE=image/jpeg:https://horsfallhouse.co.uk/wp-content/uploads/2
 025/12/Website-image-Snowdrops-2026-image-e1769604448960.avif
LOCATION:Hyde\, Minchinhampton\, Hyde Hill\, Hyde\, Minchinhampton\, GL6 8P
 A\, United Kingdom
X-APPLE-STRUCTURED-LOCATION;VALUE=URI;X-ADDRESS=Hyde Hill\, Hyde\, Minchinh
 ampton\, GL6 8PA\, United Kingdom;X-APPLE-RADIUS=100;X-TITLE=Hyde\, Minchi
 nhampton:geo:0,0
END:VEVENT
END:VCALENDAR