BEGIN:VCALENDAR
VERSION:2.0
PRODID:-//wp-events-plugin.com//7.2.3.1//EN
BEGIN:VEVENT
UID:12@horsfallhouse.co.uk
DTSTART:20240706T193000Z
DTEND:20240706T210000Z
DTSTAMP:20240617T130540Z
URL:https://horsfallhouse.co.uk/events/capellasingers/
SUMMARY:Capella Singers: Fanfare
DESCRIPTION:The Capella Singers\, in support of Horsfall House\, present Fa
 nfare. A celebration of sixty years of The Capella Singers and their last-
 ever concert. It promises to be an exciting evening and not to be missed!\
 n\nThe Cappella Singers will be joined by an ensemble of cornetts\, sackbu
 ts\, modern brass and percussion\, led by Adrian Woodward\, with Mark Blat
 chly\, organ.\n\nThe programme will include music by Lassus\, Weelkes\, Gi
 bbons and Purcell. Significant anniversaries will be celebrated in music b
 y Pelham Humfrey\, Bruckner\, Fauré\, Stanford and Holst.\n\nWe have also
  commissioned new and exciting works by Mark Blatchly and Matthew Cann for
  this occasion.\nTickets £22 in advance or £25 on the day. Free for care
 rs and school students!\n\nTickets available from Ticketsource or from cho
 ir members.
ATTACH;FMTTYPE=image/jpeg:https://i0.wp.com/horsfallhouse.co.uk/wp-content
 /uploads/2024/06/439242004_874067028092600_4458933600880569483_n.jpg?fit=4
 56%2C640&ssl=1
LOCATION:Holy Trinity Church\, Bell Lane\, Minchinhampton\, Gloucestershire
 \, GL6 9BP\, United Arab Emirates
X-APPLE-STRUCTURED-LOCATION;VALUE=URI;X-ADDRESS=Bell Lane\, Minchinhampton\
 , Gloucestershire\, GL6 9BP\, United Arab Emirates;X-APPLE-RADIUS=100;X-TI
 TLE=Holy Trinity Church:geo:0,0
END:VEVENT
END:VCALENDAR